BEGIN:VCALENDAR
VERSION:2.0
PRODID:-//Dacoda ehf//Skolamatur matsedill//EN
CALSCALE:GREGORIAN
METHOD:PUBLISH
X-WR-CALNAME:Skólamatur - matseðill
X-WR-TIMEZONE:Atlantic/Reykjavik
BEGIN:VTIMEZONE
TZID:Atlantic/Reykjavik
X-LIC-LOCATION:Atlantic/Reykjavik
BEGIN:STANDARD
TZOFFSETFROM:+0000
TZOFFSETTO:+0000
TZNAME:GMT
DTSTART:19700101T000000
END:STANDARD
END:VTIMEZONE
BEGIN:VEVENT
DTSTART:20260427T113000Z
DTEND:20260427T123000Z
DTSTAMP:20260425T000000Z
UID:c4658602b6d964df71786c5436835c32f8ab7cfe
LAST-MODIFIED:20260425T000000Z
LOCATION:Leikskólinn Klambrar
STATUS:CONFIRMED
TRANSP:OPAQUE
SUMMARY:Grænmetislasagna
DESCRIPTION:Grænmetislasagna\n\nKjötréttur:\nKarrýkryddaður plokkfisku
 r með rúgbrauðiMeðlætisbar:Paprikur\, Gúrkur\, Brokkolí\, Perur\, A
 ppelsínur\, Epli
END:VEVENT
BEGIN:VEVENT
DTSTART:20260428T113000Z
DTEND:20260428T123000Z
DTSTAMP:20260425T000000Z
UID:df0b9902716307a912873262e9db9d7b8c8703e6
LAST-MODIFIED:20260425T000000Z
LOCATION:Leikskólinn Klambrar
STATUS:CONFIRMED
TRANSP:OPAQUE
SUMMARY:Falafel buff
DESCRIPTION:Falafel buff\n\nKjötréttur:\nHakkabuff með kartöflumús og 
 brúnni sósuMeðlætisbar:Tómatar\, Rauðkál\, Grænar baunir\, Epli\, 
 Perur\, Bananar
END:VEVENT
BEGIN:VEVENT
DTSTART:20260429T113000Z
DTEND:20260429T123000Z
DTSTAMP:20260425T000000Z
UID:5a2ce1f5223f1794282d674f5fdaed385f25a6ec
LAST-MODIFIED:20260425T000000Z
LOCATION:Leikskólinn Klambrar
STATUS:CONFIRMED
TRANSP:OPAQUE
SUMMARY:Grænmetisbollur
DESCRIPTION:Grænmetisbollur\n\nKjötréttur:\nSoðinn lax og ýsa með kar
 töflum\, bræddu smjöri og rúgbrauðiMeðlætisbar:Blómkál\, Gulrætu
 r\, Rófur\, Epli\, Bananar\, Melónur
END:VEVENT
BEGIN:VEVENT
DTSTART:20260430T113000Z
DTEND:20260430T123000Z
DTSTAMP:20260425T000000Z
UID:e0d6fb8176ae57605f6ee6afb757a693e601eb21
LAST-MODIFIED:20260425T000000Z
LOCATION:Leikskólinn Klambrar
STATUS:CONFIRMED
TRANSP:OPAQUE
SUMMARY:Asískar grænmetisbollur
DESCRIPTION:Asískar grænmetisbollur\n\nKjötréttur:\nToskana bollur í m
 arinara sósu með spaghettiMeðlætisbar:Paprikur\, Gúrkur\, Tómatar\, 
 Bananar\, Epli\, Perur
END:VEVENT
BEGIN:VEVENT
DTSTART:20260501T113000Z
DTEND:20260501T123000Z
DTSTAMP:20260425T000000Z
UID:e72ef85bb557c8cada68bc64f87911f950390b13
DESCRIPTION:Verkalýðsdagurinn
LAST-MODIFIED:20260425T000000Z
LOCATION:Leikskólinn Klambrar
STATUS:CONFIRMED
SUMMARY:Verkalýðsdagurinn
TRANSP:OPAQUE
END:VEVENT
BEGIN:VEVENT
DTSTART:20260504T113000Z
DTEND:20260504T123000Z
DTSTAMP:20260425T000000Z
UID:dc82ace3a9a25745ac468a67ad550c42b287dab1
DESCRIPTION:Frí
LAST-MODIFIED:20260425T000000Z
LOCATION:Leikskólinn Klambrar
STATUS:CONFIRMED
SUMMARY:Frí
TRANSP:OPAQUE
END:VEVENT
BEGIN:VEVENT
DTSTART:20260505T113000Z
DTEND:20260505T123000Z
DTSTAMP:20260425T000000Z
UID:ff6403a34b7ab8183368fff8986003ad124ed55e
LAST-MODIFIED:20260425T000000Z
LOCATION:Leikskólinn Klambrar
STATUS:CONFIRMED
TRANSP:OPAQUE
SUMMARY:Vegan borgari með grænmeti\, sósu og bátakartöflur
DESCRIPTION:Vegan borgari með grænmeti\, sósu og bátakartöflur\n\nKjö
 tréttur:\nHamborgari og bátakartöflurMeðlætisbar:Kál\, Paprikur\, G
 úrkur\, Tómatar\, Rauðlaukur\, Súrar gúrkur\, Epli\, Perur
END:VEVENT
BEGIN:VEVENT
DTSTART:20260506T113000Z
DTEND:20260506T123000Z
DTSTAMP:20260425T000000Z
UID:0d0fd91f0541f2f7c4ae180c16c861f76d275b11
LAST-MODIFIED:20260425T000000Z
LOCATION:Leikskólinn Klambrar
STATUS:CONFIRMED
TRANSP:OPAQUE
SUMMARY:Kjúklingabaunabuff
DESCRIPTION:Kjúklingabaunabuff\n\nKjötréttur:\nKjúklingaréttur frá Sr
 i Lanka með hýðishrísgrjónumMeðlætisbar:Spínat\, Paprikur\, Gúrku
 r\, Tómatar\, Blómkál\, Gulrætur\, Bygg salsa\, Bananar\, Melónur
END:VEVENT
BEGIN:VEVENT
DTSTART:20260507T113000Z
DTEND:20260507T123000Z
DTSTAMP:20260425T000000Z
UID:66ce35559490995244666b74eec1abd4b3b9345b
LAST-MODIFIED:20260425T000000Z
LOCATION:Leikskólinn Klambrar
STATUS:CONFIRMED
TRANSP:OPAQUE
SUMMARY:Asískar grænmetisnúðlur og gróf brauðbolla
DESCRIPTION:Asískar grænmetisnúðlur og gróf brauðbolla\n\nKjötréttu
 r:\nAsískar kjúklinganúðlur og gróf brauðbollaMeðlætisbar:Spínat\
 , Paprikur\, Gúrkur\, Tómatar\, Brokkolí\, Gular baunir\, Appelsínur\,
  Bananar
END:VEVENT
BEGIN:VEVENT
DTSTART:20260508T113000Z
DTEND:20260508T123000Z
DTSTAMP:20260425T000000Z
UID:5de5433683ad4bdde6f5f2d7775c8ba090b5fec7
LAST-MODIFIED:20260425T000000Z
LOCATION:Leikskólinn Klambrar
STATUS:CONFIRMED
TRANSP:OPAQUE
SUMMARY:Vegan grjónagrautur og brauð með vegan áleggi
DESCRIPTION:Vegan grjónagrautur og brauð með vegan áleggi\n\nKjötrétt
 ur:\nGrjónagrautur\, slátur og brauð með áleggiMeðlætisbar:Úrval 
 ávaxta og grænmetis
END:VEVENT
END:VCALENDAR
